{"text_format":"3","workbook":"xlsx","n_sheets":3,"sheets":["Strana 1","Strana 2","parametry"],"read":"whole","date_system":"1900"}

{"sheet":"Strana 1","index":0,"n_rows":51,"n_cols":9,"rows_kept":51,"merged":[[2,5,2,6],[3,0,3,4],[3,5,3,6],[4,5,4,6],[5,0,5,1],[5,2,5,4],[5,5,5,8],[6,5,6,8],[7,1,7,4],[10,0,10,1],[10,2,10,3],[10,4,10,6],[10,7,10,8],[11,0,11,1],[11,2,11,3],[11,4,11,6],[11,7,11,8],[12,0,12,1],[12,2,12,3],[12,4,12,6],[12,7,12,8],[13,0,13,1],[13,2,13,3],[13,4,13,6],[13,7,13,8],[14,0,14,1],[14,2,14,3],[14,4,14,6],[14,7,14,8],[15,0,15,1],[15,2,15,3],[15,4,15,6],[15,7,15,8],[16,0,16,1],[16,2,16,3],[16,4,16,6],[16,7,16,8],[17,0,17,1],[17,2,17,3],[17,4,17,6],[17,7,17,8],[19,2,19,8],[21,0,21,4],[21,5,21,8],[23,3,23,8],[25,6,25,7],[28,0,28,4],[28,5,28,8],[32,4,32,5],[34,0,34,1],[37,0,37,2],[37,4,37,8],[38,0,38,2],[40,0,40,2],[41,0,41,2],[42,0,42,2],[44,1,44,3],[44,4,44,5],[44,6,44,8]]}
[]
[]
["Organizace:                                                                               ",{"$nulls":4},"Osobní číslo: "]
["VOŠ, G, SPŠ a SOŠ, Praha 2, Podskalská 10",{"$nulls":4},"Útvar: "]
["                                                                                                  ",{"$nulls":4},"Telefon:"]
["1. Příjmení, jméno, titul:   "]
[{"$nulls":5},"Normální pracovní doba:"]
["2. Bydliště: ",{"$nulls":4},"od:",null,"do: "]
[]
[]
["Počátek cesty (místo, datum, hodina)",null,"Místo jednání",null,"Účel a průběh cesty",null,null,"Konec cesty (místo a datum)"]
{"$rows_empty":8}
["3. Spolucestující:"]
[]
["4. Určený dopr. prostředek (u vlastního vozidla druh a obsah válců)"]
[]
["5. Předpokládaná částka výdajů v Kč:"]
[]
["6. Povolená záloha v Kč:",{"$nulls":3},"vyplacena dne:",null,"pokl. doklad číslo:"]
[]
["…………………………………………………….                                               ……….. …………………………………………………"]
["                    podpis pokladníka                                                                                   ",{"$nulls":4},"datum a podpis pracovníka oprávněného k povolení cesty"]
[]
["VYÚČTOVÁNÍ  PRACOVNÍ   CESTY"]
[]
["7. Zpráva o výsledku pracovní cesty byla podána dne:"]
[]
["Se způsobem souhlasí:                                                                                                              ",{"$nulls":5},"………………..…………………"]
["                                                                                                                                                       ",{"$nulls":5},"datum a podpis odpovědného pracovníka"]
[]
["8. Výdajový a příjmový doklad číslo:",{"$nulls":3},"Účtovací předpis"]
[{"$nulls":4},"Má dáti","Dal","Částka","Středisko","Zakázka"]
[]
["Účtovaná náhrada byla přezkoušena a upravena: ",null,null,"Kč"]
["Zúčtování zálohy (doplatek – přeplatek):",null,null,"Kč"]
["Celkem k vyplacení:",null,null,"Kč"]
[]
["Slovy: ",{"$nulls":3},"Poznámka o zúčtování:"]
[]
[]
["……………………………………….             ..…………………….                   ………………………                    …..……………….."]
["Datum podpis pracovníka, který upraví vyúčtování               Datum a podpis pokladníka                            Datum a podpis příjemce                               Schválil (datum a podpis)"]
[]
["Prostor k vylepení jízdenek:"]

{"sheet":"Strana 2","index":1,"n_rows":59,"n_cols":13,"rows_kept":59,"merged":[[0,0,0,12],[1,0,2,0],[1,1,1,2],[1,3,2,3],[1,4,2,4],[1,5,2,5],[1,6,2,6],[3,1,3,2],[4,0,5,0],[4,3,5,3],[4,4,5,4],[4,5,5,5],[4,7,5,7],[4,8,5,8],[4,9,5,9],[4,10,5,10],[4,11,5,11],[4,12,5,12],[6,0,7,0],[6,3,7,3],[6,4,7,4],[6,5,7,5],[6,7,7,7],[6,8,7,8],[6,9,7,9],[6,10,7,10],[6,11,7,11],[6,12,7,12],[8,0,9,0],[8,3,9,3],[8,4,9,4],[8,5,9,5],[8,7,9,7],[8,8,9,8],[8,9,9,9],[8,10,9,10],[8,11,9,11],[8,12,9,12],[10,0,11,0],[10,3,11,3],[10,4,11,4],[10,5,11,5],[10,7,11,7],[10,8,11,8],[10,9,11,9],[10,10,11,10],[10,11,11,11],[10,12,11,12],[12,0,13,0],[12,3,13,3],[12,4,13,4],[12,5,13,5],[12,7,13,7],[12,8,13,8],[12,9,13,9],[12,10,13,10],[12,11,13,11],[12,12,13,12],[14,0,15,0],[14,3,15,3],[14,4,15,4],[14,5,15,5],[14,7,15,7],[14,8,15,8],[14,9,15,9],[14,10,15,10],[14,11,15,11],[14,12,15,12],[16,0,17,0],[16,3,17,3],[16,4,17,4],[16,5,17,5],[16,7,17,7],[16,8,17,8],[16,9,17,9],[16,10,17,10],[16,11,17,11],[16,12,17,12],[18,0,19,0],[18,3,19,3],[18,4,19,4],[18,5,19,5],[18,7,19,7],[18,8,19,8],[18,9,19,9],[18,10,19,10],[18,11,19,11],[18,12,19,12],[20,0,21,0],[20,3,21,3],[20,4,21,4],[20,5,21,5],[20,7,21,7],[20,8,21,8],[20,9,21,9],[20,10,21,10],[20,11,21,11],[20,12,21,12],[22,0,23,0],[22,3,23,3],[22,4,23,4],[22,5,23,5],[22,7,23,7],[22,8,23,8],[22,9,23,9],[22,10,23,10],[22,11,23,11],[22,12,23,12],[24,0,25,0],[24,3,25,3],[24,4,25,4],[24,5,25,5],[24,7,25,7],[24,8,25,8],[24,9,25,9],[24,10,25,10],[24,11,25,11],[24,12,25,12],[26,0,27,0],[26,3,27,3],[26,4,27,4],[26,5,27,5],[26,7,27,7],[26,8,27,8],[26,9,27,9],[26,10,27,10],[26,11,27,11],[26,12,27,12],[28,0,28,5],[28,6,29,6],[28,7,29,7],[28,8,29,8],[28,9,29,9],[28,10,29,10],[28,11,29,11],[28,12,29,12],[29,0,29,2],[30,0,30,5],[30,6,30,10],[31,0,31,2],[31,6,31,10],[46,0,46,1],[46,2,46,5],[46,6,46,7],[46,10,46,11],[47,0,47,1],[47,2,47,5],[47,6,47,7],[47,10,47,11],[48,0,48,1],[48,2,48,5],[48,6,48,7],[48,10,48,11],[49,0,49,1],[49,2,49,5],[49,6,49,7],[49,10,49,11],[50,0,50,1],[50,2,50,5],[50,6,50,7],[50,10,50,11],[51,0,51,1],[51,2,51,5],[51,6,51,7],[51,10,51,11],[52,0,52,1],[52,2,52,5],[52,6,52,7],[52,10,52,11],[53,0,53,1],[53,2,53,5],[53,6,53,7],[53,10,53,11],[54,0,54,1],[54,2,54,5],[54,6,54,7],[54,10,54,11]]}
["VYÚČTOVÁNÍ   PRACOVNÍ   CESTY"]
["Datum","Odjezd – Příjezd 1)",null,"Použitý dopravní prostředek 2)","Počet hodin ztráty času","Vzdálenost v km 3)","Počátek a konec pracovního výkonu","Jízdné a místní doprava","Stravné","Nocležné","Nutné vedlejší výdaje","Celkem","Upraveno"]
[null,null,"v hod",{"$nulls":4},"Kč","Kč","Kč","Kč","Kč","Kč"]
[1,2,null,3,4,null,6,7,8,9,10,11,12]
[{"$nulls":11},{"$f":"SUM(H5:K6)","v":0}]
[]
[{"$nulls":11},{"$f":"SUM(H7:K8)","v":0}]
[]
[{"$nulls":11},{"$f":"SUM(H9:K10)","v":0}]
[]
[{"$nulls":11},{"$f":"SUM(H11:K12)","v":0}]
[]
[{"$nulls":11},{"$f":"SUM(H13:K14)","v":0}]
[]
[{"$nulls":11},{"$f":"SUM(H15:K16)","v":0}]
[]
[{"$nulls":11},{"$f":"SUM(H17:K18)","v":0}]
[]
[{"$nulls":11},{"$f":"SUM(H19:K20)","v":0}]
[]
[{"$nulls":11},{"$f":"SUM(H21:K22)","v":0}]
[]
[{"$nulls":11},{"$f":"SUM(H23:K24)","v":0}]
[]
[{"$nulls":11},{"$f":"SUM(H25:K26)","v":0}]
[]
[{"$nulls":11},{"$f":"SUM(H27:K28)","v":0}]
[]
[{"$nulls":6},"Celkem",{"$f":"SUM(H5:H28)","v":0},{"$f":"SUM(I5:I28)","v":0},{"$f":"SUM(J5:J28)","v":0},{"$f":"SUM(K5:K28)","v":0},{"$f":"SUM(L5:L28)","v":0}]
["Stravování bylo poskytnuto bezplatně:      –",null,null,"ano"," ne"]
[{"$nulls":6},"Záloha"]
["Pobírám odlučné:                ",null,null,"ano"," ne",null,"Doplatek - Přeplatek",{"$nulls":4},{"$f":"L29-L31","v":0}]
[]
[]
["O – osobní vlak",null,"AUS – auto služební"]
["R – rychlík",null,"AUV – auto vlastní"]
["A – autobus",null,"MOS – motocykl služ."]
["L – letadlo"]
[]
["1) Dobu odjezdu a příjezdu u veřejného dopravního prostředku vyplňte podle jízdního řádu."]
["2) Uvádějte ve zkratce"]
["3)  Počet km uvádějte jen při použití jiného než veřejného doprav. prostředku     "]
[]
[]
["Prostor k vylepení jízdenek a dokladů a k pomocným výpočtům jízdného při použití vlastního auta.   "]
[]
["Odkud",null,"Kam",{"$nulls":3},"Spotřeba dle technického průkazu",null,"Počet km","Cena benzínu","Výpočet",null,"Celkem za jízdu"]
[{"$nulls":10},{"$f":"CONCATENATE(\"počet km*cena ben.*spotřeba/100 +\", parametry!$B$5,\"*počet km\")","v":"počet km*cena ben.*spotřeba/100 +4,4*počet km"},null,{"$f":"(G48*I48*J48/100) + parametry!$B$5*I48","v":0}]
[{"$nulls":10},{"$f":"CONCATENATE(\"počet km*cena ben.*spotřeba/100 +\", parametry!$B$5,\"*počet km\")","v":"počet km*cena ben.*spotřeba/100 +4,4*počet km"},null,{"$f":"(G49*I49*J49/100) + parametry!$B$5*I49","v":0}]
[{"$nulls":10},{"$f":"CONCATENATE(\"počet km*cena ben.*spotřeba/100 +\", parametry!$B$5,\"*počet km\")","v":"počet km*cena ben.*spotřeba/100 +4,4*počet km"},null,{"$f":"(G50*I50*J50/100) + parametry!$B$5*I50","v":0}]
[{"$nulls":10},{"$f":"CONCATENATE(\"počet km*cena ben.*spotřeba/100 +\", parametry!$B$5,\"*počet km\")","v":"počet km*cena ben.*spotřeba/100 +4,4*počet km"},null,{"$f":"(G51*I51*J51/100) + parametry!$B$5*I51","v":0}]
[{"$nulls":10},{"$f":"CONCATENATE(\"počet km*cena ben.*spotřeba/100 +\", parametry!$B$5,\"*počet km\")","v":"počet km*cena ben.*spotřeba/100 +4,4*počet km"},null,{"$f":"(G52*I52*J52/100) + parametry!$B$5*I52","v":0}]
[{"$nulls":10},{"$f":"CONCATENATE(\"počet km*cena ben.*spotřeba/100 +\", parametry!$B$5,\"*počet km\")","v":"počet km*cena ben.*spotřeba/100 +4,4*počet km"},null,{"$f":"(G53*I53*J53/100) + parametry!$B$5*I53","v":0}]
[{"$nulls":10},{"$f":"CONCATENATE(\"počet km*cena ben.*spotřeba/100 +\", parametry!$B$5,\"*počet km\")","v":"počet km*cena ben.*spotřeba/100 +4,4*počet km"},null,{"$f":"(G54*I54*J54/100) + parametry!$B$5*I54","v":0}]
[{"$nulls":10},{"$f":"CONCATENATE(\"počet km*cena ben.*spotřeba/100 +\", parametry!$B$5,\"*počet km\")","v":"počet km*cena ben.*spotřeba/100 +4,4*počet km"},null,{"$f":"(G55*I55*J55/100) + parametry!$B$5*I55","v":0}]
[]
[{"$f":"CONCATENATE(\"Pokud není doklad na pohonné hmoty, tak pro rok \",parametry!$B$1,\" se vykazuje:\")","v":"Pokud není doklad na pohonné hmoty, tak pro rok 2021 se vykazuje:"},{"$nulls":7},"nafta:",{"$f":"parametry!B2","v":{"v":27.2,"d":"27.20 Kč"}}]
[{"$nulls":8},"benzin 95:",{"$f":"parametry!B3","v":{"v":27.8,"d":"27.80 Kč"}}]
[{"$nulls":8},"benzin 98:",{"$f":"parametry!B4","v":{"v":31.5,"d":"31.50 Kč"}}]

{"sheet":"parametry","index":2,"n_rows":10,"n_cols":2,"rows_kept":10}
["rok:",2021]
["nafta:",{"v":27.2,"d":"27.20 Kč"}]
["benzin 95:",{"v":27.8,"d":"27.80 Kč"}]
["benzin 98:",{"v":31.5,"d":"31.50 Kč"}]
["koeficient",4.4]
[]
["Stravné"]
["5-12 hodin",{"v":100,"d":"100 Kč"}]
["12-18 hodin",{"v":150,"d":"150 Kč"}]
["18-24 hodin",{"v":220,"d":"220 Kč"}]