Workbook

Sheet Strana 1
A3: Organizace: | F3: Osobní číslo:
A4: SPŠ, SOŠ a G, Praha 2, Podskalská 10, příspěvková organizace | F4: Útvar:
F5: Telefon:
A6: 1. Příjmení, jméno, titul:
F7: Normální pracovní doba:
A8: 2. Bydliště: | F8: od: | H8: do:
A11: Počátek cesty (místo, datum, hodina) | C11: Místo jednání | E11: Účel a průběh cesty | H11: Konec cesty (místo a datum)
A20: 3. Spolucestující:
A22: 4. Určený dopr. prostředek (u vlastního vozidla druh a obsah válců)
A24: 5. Předpokládaná částka výdajů v Kč:
A26: 6. Povolená záloha v Kč: | E26: vyplacena dne: | G26: pokl. doklad číslo:
A28: ……………………………………………………. ……….. …………………………………………………
A29: podpis pokladníka | F29: datum a podpis pracovníka oprávněného k povolení cesty
A31: VYÚČTOVÁNÍ PRACOVNÍ CESTY
A33: 7. Zpráva o výsledku pracovní cesty byla podána dne:
A35: Se způsobem souhlasí: | G35: ………………..…………………
G36: datum a podpis odpovědného pracovníka
A38: 8. Výdajový a příjmový doklad číslo: | E38: Účtovací předpis
E39: Má dáti | F39: Dal | G39: Částka | H39: Středisko | I39: Zakázka
A41: Účtovaná náhrada byla přezkoušena a upravena: | D41: Kč
A42: Zúčtování zálohy (doplatek – přeplatek): | D42: Kč
A43: Celkem k vyplacení: | D43: Kč
A45: Slovy: | E45: Poznámka o zúčtování:
A48: ………………………………………. ..……………………. ……………………… …..………………..
A49: Datum podpis pracovníka, který upraví vyúčtování Datum a podpis pokladníka Datum a podpis příjemce Schválil (datum a podpis)
A51: Prostor k vylepení jízdenek:

Sheet Strana 2
A1: VYÚČTOVÁNÍ PRACOVNÍ CESTY
A2: Datum | B2: Odjezd – Příjezd 1) | D2: Použitý dopravní prostředek 2) | E2: Počet hodin ztráty času | F2: Vzdálenost v km 3) | G2: Počátek a konec pracovního výkonu | H2: Jízdné a místní doprava | I2: Stravné | J2: Nocležné | K2: Nutné vedlejší výdaje | L2: Celkem | M2: Upraveno
C3: v hod | H3: Kč | I3: Kč | J3: Kč | K3: Kč | L3: Kč | M3: Kč
A4: 1 | B4: 2 | D4: 3 | E4: 4 | G4: 6 | H4: 7 | I4: 8 | J4: 9 | K4: 10 | L4: 11 | M4: 12
L5: =SUM(H5:K6) -> 0
L7: =SUM(H7:K8) -> 0
L9: =SUM(H9:K10) -> 0
L11: =SUM(H11:K12) -> 0
L13: =SUM(H13:K14) -> 0
L15: =SUM(H15:K16) -> 0
L17: =SUM(H17:K18) -> 0
L19: =SUM(H19:K20) -> 0
L21: =SUM(H21:K22) -> 0
L23: =SUM(H23:K24) -> 0
L25: =SUM(H25:K26) -> 0
L27: =SUM(H27:K28) -> 0
G29: Celkem | H29: =SUM(H5:H28) -> 0 | I29: =SUM(I5:I28) -> 0 | J29: =SUM(J5:J28) -> 0 | K29: =SUM(K5:K28) -> 0 | L29: =SUM(L5:L28) -> 0
A30: Stravování bylo poskytnuto bezplatně: – | D30: ano | E30: ne
G31: Záloha
A32: Pobírám odlučné: | D32: ano | E32: ne | G32: Doplatek - Přeplatek | L32: =L29-L31 -> 0
A35: O – osobní vlak | C35: AUS – auto služební
A36: R – rychlík | C36: AUV – auto vlastní
A37: A – autobus | C37: MOS – motocykl služ.
A38: L – letadlo
A40: 1) Dobu odjezdu a příjezdu u veřejného dopravního prostředku vyplňte podle jízdního řádu.
A41: 2) Uvádějte ve zkratce
A42: 3) Počet km uvádějte jen při použití jiného než veřejného doprav. prostředku
A45: Prostor k vylepení jízdenek a dokladů a k pomocným výpočtům jízdného při použití vlastního auta.
A47: Odkud | C47: Kam | G47: Spotřeba dle technického průkazu | I47: Počet km | J47: Cena benzínu | K47: Výpočet | M47: Celkem za jízdu
K48: =CONCATENATE("počet km*cena ben.*spotřeba/100 +", parametry!$B$5,"*počet km") -> počet km*cena ben.*spotřeba/100 +5,9*počet km | M48: =(G48*I48*J48/100) + parametry!$B$5*I48 -> 0
K49: =CONCATENATE("počet km*cena ben.*spotřeba/100 +", parametry!$B$5,"*počet km") -> počet km*cena ben.*spotřeba/100 +5,9*počet km | M49: =(G49*I49*J49/100) + parametry!$B$5*I49 -> 0
K50: =CONCATENATE("počet km*cena ben.*spotřeba/100 +", parametry!$B$5,"*počet km") -> počet km*cena ben.*spotřeba/100 +5,9*počet km | M50: =(G50*I50*J50/100) + parametry!$B$5*I50 -> 0
K51: =CONCATENATE("počet km*cena ben.*spotřeba/100 +", parametry!$B$5,"*počet km") -> počet km*cena ben.*spotřeba/100 +5,9*počet km | M51: =(G51*I51*J51/100) + parametry!$B$5*I51 -> 0
K52: =CONCATENATE("počet km*cena ben.*spotřeba/100 +", parametry!$B$5,"*počet km") -> počet km*cena ben.*spotřeba/100 +5,9*počet km | M52: =(G52*I52*J52/100) + parametry!$B$5*I52 -> 0
K53: =CONCATENATE("počet km*cena ben.*spotřeba/100 +", parametry!$B$5,"*počet km") -> počet km*cena ben.*spotřeba/100 +5,9*počet km | M53: =(G53*I53*J53/100) + parametry!$B$5*I53 -> 0
K54: =CONCATENATE("počet km*cena ben.*spotřeba/100 +", parametry!$B$5,"*počet km") -> počet km*cena ben.*spotřeba/100 +5,9*počet km | M54: =(G54*I54*J54/100) + parametry!$B$5*I54 -> 0
K55: =CONCATENATE("počet km*cena ben.*spotřeba/100 +", parametry!$B$5,"*počet km") -> počet km*cena ben.*spotřeba/100 +5,9*počet km | M55: =(G55*I55*J55/100) + parametry!$B$5*I55 -> 0
A57: =CONCATENATE("Pokud není doklad na pohonné hmoty, tak pro rok ",parametry!$B$1," se vykazuje:") -> Pokud není doklad na pohonné hmoty, tak pro rok 2026 se vykazuje: | I57: nafta: | J57: =parametry!B2 -> 44.5
I58: benzin 95: | J58: =parametry!B3 -> 34.7
I59: benzin 98: | J59: =parametry!B4 -> 39

Sheet parametry
A1: rok: | B1: 2026
A2: nafta: | B2: 44.5
A3: benzin 95: | B3: 34.7
A4: benzin 98: | B4: 39
A5: koeficient | B5: 5.9
A7: Stravné
A8: 5-12 hodin | B8: 180
A9: 12-18 hodin | B9: 260
A10: 18-24 hodin | B10: 420
A14: pozn. | B14: 7.2 | C14: kilowatthodina
